BEGIN:VCALENDAR
VERSION:2.0
PRODID:-//Xceptional Heroes - ECPv6.15.20//NONSGML v1.0//EN
CALSCALE:GREGORIAN
METHOD:PUBLISH
X-ORIGINAL-URL:https://xceptionalheroes.org
X-WR-CALDESC:Events for Xceptional Heroes
REFRESH-INTERVAL;VALUE=DURATION:PT1H
X-Robots-Tag:noindex
X-PUBLISHED-TTL:PT1H
BEGIN:VTIMEZONE
TZID:UTC
BEGIN:STANDARD
TZOFFSETFROM:+0000
TZOFFSETTO:+0000
TZNAME:UTC
DTSTART:20240101T000000
END:STANDARD
END:VTIMEZONE
BEGIN:VEVENT
DTSTART;TZID=UTC:20250723T180000
DTEND;TZID=UTC:20250723T183000
DTSTAMP:20260424T033617
CREATED:20250622T203318Z
LAST-MODIFIED:20250622T203318Z
UID:4518-1753293600-1753295400@xceptionalheroes.org
SUMMARY:Drumming Class
DESCRIPTION:We are bringing Drumming Class to Richfield Road Church! \nDrumming Class has been such a huge hit in the North that we wanted to bring it to Richfield as well! \nJoin us for a fun and innovated way to get your body moving and make some fun tunes in the process! \nThere is a participant limit so please only show up if you are signed up for the event. \nClick here to sign up! \n 
URL:https://xceptionalheroes.org/event/drumming-class-2/
LOCATION:Richfield Road Church\, 6259 Richfield Rd\, Flint\, 48506
CATEGORIES:Free For All
ATTACH;FMTTYPE=image/jpeg:https://xceptionalheroes.org/wp-content/uploads/2025/03/IMG_4345.jpg
END:VEVENT
BEGIN:VEVENT
DTSTART;TZID=UTC:20250723T180000
DTEND;TZID=UTC:20250723T193000
DTSTAMP:20260424T033617
CREATED:20250622T203147Z
LAST-MODIFIED:20250622T203147Z
UID:4516-1753293600-1753299000@xceptionalheroes.org
SUMMARY:XH North Bingo Night
DESCRIPTION:Come join us for a funfilled Bingo Night with Bubba! \nThis is a very popular event and always has everyone leaving with a smile on their face! \nMake sure to bring 2.75 in quarters with you to play with as Bubba has a fun progressive jackpot going \nClick here to sign up! \n 
URL:https://xceptionalheroes.org/event/xh-north-bingo-night-6/
LOCATION:12167 N Lewis Rd Clio\, MI\, 12167 N Lewis Rd\, Clio\, Michigan\, 48420
CATEGORIES:Ticket or Entry Costs
ATTACH;FMTTYPE=image/jpeg:https://xceptionalheroes.org/wp-content/uploads/2025/03/IMG_4344.jpg
END:VEVENT
END:VCALENDAR