BEGIN:VCALENDAR
VERSION:2.0
PRODID:-//Xceptional Heroes - ECPv6.15.20//NONSGML v1.0//EN
CALSCALE:GREGORIAN
METHOD:PUBLISH
X-ORIGINAL-URL:https://xceptionalheroes.org
X-WR-CALDESC:Events for Xceptional Heroes
REFRESH-INTERVAL;VALUE=DURATION:PT1H
X-Robots-Tag:noindex
X-PUBLISHED-TTL:PT1H
BEGIN:VTIMEZONE
TZID:UTC
BEGIN:STANDARD
TZOFFSETFROM:+0000
TZOFFSETTO:+0000
TZNAME:UTC
DTSTART:20240101T000000
END:STANDARD
END:VTIMEZONE
BEGIN:VEVENT
DTSTART;TZID=UTC:20250717T110000
DTEND;TZID=UTC:20250717T120000
DTSTAMP:20260424T033618
CREATED:20250622T202449Z
LAST-MODIFIED:20250622T202449Z
UID:4510-1752750000-1752753600@xceptionalheroes.org
SUMMARY:Fun w/ Fitness Outside
DESCRIPTION:Join us for Fitness with Tamara\, but this time we are moving outdoors! \nWith the weather getting warmer and nicer we are moving Fitness to Bicentenial Park to enjoy their walking paths\, outdoor workout equipment\, and ball fields! \nMake sure to dress appropriately for the weather and to bring plenty of water to get you through! \nClick here to sign up! \n 
URL:https://xceptionalheroes.org/event/fun-w-fitness-outside-5/
LOCATION:Bicentennial Park\, 1505 E. Grand Blanc Rd\, Grand Blanc\, MI\, 48439\, United States
CATEGORIES:Free For All
ATTACH;FMTTYPE=image/jpeg:https://xceptionalheroes.org/wp-content/uploads/2024/08/IMG_3553.jpg
END:VEVENT
END:VCALENDAR