BEGIN:VCALENDAR
VERSION:2.0
PRODID:-//Xceptional Heroes - ECPv6.15.20//NONSGML v1.0//EN
CALSCALE:GREGORIAN
METHOD:PUBLISH
X-ORIGINAL-URL:https://xceptionalheroes.org
X-WR-CALDESC:Events for Xceptional Heroes
REFRESH-INTERVAL;VALUE=DURATION:PT1H
X-Robots-Tag:noindex
X-PUBLISHED-TTL:PT1H
BEGIN:VTIMEZONE
TZID:UTC
BEGIN:STANDARD
TZOFFSETFROM:+0000
TZOFFSETTO:+0000
TZNAME:UTC
DTSTART:20240101T000000
END:STANDARD
END:VTIMEZONE
BEGIN:VEVENT
DTSTART;TZID=UTC:20250715T180000
DTEND;TZID=UTC:20250715T183000
DTSTAMP:20260424T033840
CREATED:20250622T201849Z
LAST-MODIFIED:20250622T201849Z
UID:4504-1752602400-1752604200@xceptionalheroes.org
SUMMARY:XH North Drumming
DESCRIPTION:Join us for an amazing opportunity to learn to play the drums and get a good workout in! \nWe are offering a class for our Heroes to have some fun drumming and working up a sweat! \nThis event has been a huge hit and you won’t want to miss out! \nThere is a strict participant cut off for this event so please only arrive to the event if you are signed up for the event. \nClick here to sign up! \n 
URL:https://xceptionalheroes.org/event/xh-north-drumming-5/
LOCATION:12167 N Lewis Rd Clio\, MI\, 12167 N Lewis Rd\, Clio\, Michigan\, 48420
CATEGORIES:Free For All
ATTACH;FMTTYPE=image/jpeg:https://xceptionalheroes.org/wp-content/uploads/2025/03/IMG_4345.jpg
END:VEVENT
BEGIN:VEVENT
DTSTART;TZID=UTC:20250715T180000
DTEND;TZID=UTC:20250715T193000
DTSTAMP:20260424T033840
CREATED:20250622T202102Z
LAST-MODIFIED:20250622T202102Z
UID:4506-1752602400-1752607800@xceptionalheroes.org
SUMMARY:Art Class
DESCRIPTION:Join us for Art Classes! All participants need to arrive approximately 15 minutes early to complete some registration forms for Mundy Township! \nWe are starting Art Classes this June at Mundy Senior Center! We will be learning how to create some amazing art designs and getting to let our creativity fly! \nWe are always looking for new ways to get our minds working and we can’t wait for this new activity! \nClick here to sign up! \n  \n 
URL:https://xceptionalheroes.org/event/art-class-2/
LOCATION:Mundy Township senior and enrichment center
CATEGORIES:Free For All
ATTACH;FMTTYPE=image/webp:https://xceptionalheroes.org/wp-content/uploads/2024/12/artists-brushes-paints.jpg-2.webp
END:VEVENT
END:VCALENDAR