BEGIN:VCALENDAR
VERSION:2.0
PRODID:-//Xceptional Heroes - ECPv6.15.20//NONSGML v1.0//EN
CALSCALE:GREGORIAN
METHOD:PUBLISH
X-ORIGINAL-URL:https://xceptionalheroes.org
X-WR-CALDESC:Events for Xceptional Heroes
REFRESH-INTERVAL;VALUE=DURATION:PT1H
X-Robots-Tag:noindex
X-PUBLISHED-TTL:PT1H
BEGIN:VTIMEZONE
TZID:UTC
BEGIN:STANDARD
TZOFFSETFROM:+0000
TZOFFSETTO:+0000
TZNAME:UTC
DTSTART:20240101T000000
END:STANDARD
END:VTIMEZONE
BEGIN:VEVENT
DTSTART;TZID=UTC:20250714T183000
DTEND;TZID=UTC:20250714T193000
DTSTAMP:20260424T033707
CREATED:20250622T201642Z
LAST-MODIFIED:20250622T201642Z
UID:4502-1752517800-1752521400@xceptionalheroes.org
SUMMARY:Pickle-ball in the North
DESCRIPTION:Join us for a fun filled Pickle-ball Class! \nWe want you all to join us in playing this fun game with friends and learning the skills it takes to play pickleball! \nThis will be outside unless the weather is bad and then we will be in the gym at lacure. \nMake sure to sign up for this event as there is limited spots available and please do not show up unless you are signed up! \nClick here to sign up! \n 
URL:https://xceptionalheroes.org/event/pickle-ball-in-the-north/
LOCATION:12167 N Lewis Rd Clio\, MI\, 12167 N Lewis Rd\, Clio\, Michigan\, 48420
CATEGORIES:Free For All
ATTACH;FMTTYPE=image/jpeg:https://xceptionalheroes.org/wp-content/uploads/2024/11/IMG_6992-scaled.jpg
END:VEVENT
END:VCALENDAR