BEGIN:VCALENDAR
VERSION:2.0
PRODID:-//Xceptional Heroes - ECPv6.15.20//NONSGML v1.0//EN
CALSCALE:GREGORIAN
METHOD:PUBLISH
X-ORIGINAL-URL:https://xceptionalheroes.org
X-WR-CALDESC:Events for Xceptional Heroes
REFRESH-INTERVAL;VALUE=DURATION:PT1H
X-Robots-Tag:noindex
X-PUBLISHED-TTL:PT1H
BEGIN:VTIMEZONE
TZID:UTC
BEGIN:STANDARD
TZOFFSETFROM:+0000
TZOFFSETTO:+0000
TZNAME:UTC
DTSTART:20240101T000000
END:STANDARD
END:VTIMEZONE
BEGIN:VEVENT
DTSTART;TZID=UTC:20250707T180000
DTEND;TZID=UTC:20250707T200000
DTSTAMP:20260424T033558
CREATED:20250622T200231Z
LAST-MODIFIED:20250622T200231Z
UID:4490-1751911200-1751918400@xceptionalheroes.org
SUMMARY:Craft Night in the North
DESCRIPTION:Come join Robin for a fun and creative Craft Night! \nThis event is free thanks to our amazing donations that go towards every craft every Month! \nRobin keeps it interesting by choosing a different craft to do with the Heroes each month! \nPlease make sure if you are attending this event that you sign up. Signing up not only helps us be prepared for the amount of heroes coming\, but also allows us to have ways to contact everyone if the event needs to be canceled. \nClick here to sign up! \n 
URL:https://xceptionalheroes.org/event/craft-night-in-the-north-4/
LOCATION:12167 N Lewis Rd Clio\, MI\, 12167 N Lewis Rd\, Clio\, Michigan\, 48420
CATEGORIES:Free For All
ATTACH;FMTTYPE=image/jpeg:https://xceptionalheroes.org/wp-content/uploads/2025/03/IMG_8119-scaled.jpeg
END:VEVENT
END:VCALENDAR