BEGIN:VCALENDAR
VERSION:2.0
PRODID:-//Xceptional Heroes - ECPv6.15.20//NONSGML v1.0//EN
CALSCALE:GREGORIAN
METHOD:PUBLISH
X-WR-CALNAME:Xceptional Heroes
X-ORIGINAL-URL:https://xceptionalheroes.org
X-WR-CALDESC:Events for Xceptional Heroes
REFRESH-INTERVAL;VALUE=DURATION:PT1H
X-Robots-Tag:noindex
X-PUBLISHED-TTL:PT1H
BEGIN:VTIMEZONE
TZID:UTC
BEGIN:STANDARD
TZOFFSETFROM:+0000
TZOFFSETTO:+0000
TZNAME:UTC
DTSTART:20240101T000000
END:STANDARD
END:VTIMEZONE
BEGIN:VEVENT
DTSTART;TZID=UTC:20250624T183000
DTEND;TZID=UTC:20250624T193000
DTSTAMP:20260424T045449
CREATED:20250529T224128Z
LAST-MODIFIED:20250529T224128Z
UID:4395-1750789800-1750793400@xceptionalheroes.org
SUMMARY:Outside Fun in the North
DESCRIPTION:Join us in the North for some Outdoor fun!\n\nWe will have lots of activities planned like pickleball\, kickball\, walking\, and a new bean bag baseball game!\n\nThese activities will differ depending on the weather but surely fun will be had by all!\n\nClick here to sign up!
URL:https://xceptionalheroes.org/event/outside-fun-in-the-north-2/
LOCATION:12167 N Lewis Rd Clio\, MI\, 12167 N Lewis Rd\, Clio\, Michigan\, 48420
CATEGORIES:Free For All
ATTACH;FMTTYPE=image/jpeg:https://xceptionalheroes.org/wp-content/uploads/2025/05/IMG_4451.jpg
END:VEVENT
END:VCALENDAR