BEGIN:VCALENDAR
VERSION:2.0
PRODID:-//Xceptional Heroes - ECPv6.15.20//NONSGML v1.0//EN
CALSCALE:GREGORIAN
METHOD:PUBLISH
X-WR-CALNAME:Xceptional Heroes
X-ORIGINAL-URL:https://xceptionalheroes.org
X-WR-CALDESC:Events for Xceptional Heroes
REFRESH-INTERVAL;VALUE=DURATION:PT1H
X-Robots-Tag:noindex
X-PUBLISHED-TTL:PT1H
BEGIN:VTIMEZONE
TZID:UTC
BEGIN:STANDARD
TZOFFSETFROM:+0000
TZOFFSETTO:+0000
TZNAME:UTC
DTSTART:20240101T000000
END:STANDARD
END:VTIMEZONE
BEGIN:VEVENT
DTSTART;TZID=UTC:20250613T180000
DTEND;TZID=UTC:20250613T200000
DTSTAMP:20260424T045449
CREATED:20250529T222527Z
LAST-MODIFIED:20250529T222527Z
UID:4379-1749837600-1749844800@xceptionalheroes.org
SUMMARY:Monthly Social
DESCRIPTION:Join us for our Monthly Social!\n\nThis is a great way to get out there and meet new friends along with hanging out with old friends!\n\nWe encourage everyone to join us at the soical! Theres dancing\, snacks\, and nothing but a good time!\n\nClick here to sign up!
URL:https://xceptionalheroes.org/event/monthly-social-11/
LOCATION:Faith Lutheran\, 12534 Holly Road\, Grand Blanc\, MI\, 48439\, United States
CATEGORIES:Free For All
ATTACH;FMTTYPE=image/jpeg:https://xceptionalheroes.org/wp-content/uploads/2024/07/IMG_5430-scaled.jpg
END:VEVENT
END:VCALENDAR