BEGIN:VCALENDAR
VERSION:2.0
PRODID:-//Xceptional Heroes - ECPv6.15.20//NONSGML v1.0//EN
CALSCALE:GREGORIAN
METHOD:PUBLISH
X-ORIGINAL-URL:https://xceptionalheroes.org
X-WR-CALDESC:Events for Xceptional Heroes
REFRESH-INTERVAL;VALUE=DURATION:PT1H
X-Robots-Tag:noindex
X-PUBLISHED-TTL:PT1H
BEGIN:VTIMEZONE
TZID:UTC
BEGIN:STANDARD
TZOFFSETFROM:+0000
TZOFFSETTO:+0000
TZNAME:UTC
DTSTART:20240101T000000
END:STANDARD
END:VTIMEZONE
BEGIN:VEVENT
DTSTART;TZID=UTC:20250520T110000
DTEND;TZID=UTC:20250520T114500
DTSTAMP:20260424T061940
CREATED:20250506T231040Z
LAST-MODIFIED:20250506T231040Z
UID:4229-1747738800-1747741500@xceptionalheroes.org
SUMMARY:FIM Music Therapy
DESCRIPTION:Join us for some Music Therapy fun!\n\nFlint Institute of Music is welcoming us for a 45 minute class to teach us about about different instruments\, music generes\, and how to use different music instruments.\n\nThis is an amazing opportunity and has gone to show that music can be therapeutic or most!\n\nClick here to sign up!
URL:https://xceptionalheroes.org/event/fim-music-therapy-5/
LOCATION:Flint Institute of Music
ATTACH;FMTTYPE=image/jpeg:https://xceptionalheroes.org/wp-content/uploads/2024/11/IMG_7211-scaled.jpg
END:VEVENT
END:VCALENDAR