BEGIN:VCALENDAR
VERSION:2.0
PRODID:-//Xceptional Heroes - ECPv6.15.20//NONSGML v1.0//EN
CALSCALE:GREGORIAN
METHOD:PUBLISH
X-WR-CALNAME:Xceptional Heroes
X-ORIGINAL-URL:https://xceptionalheroes.org
X-WR-CALDESC:Events for Xceptional Heroes
REFRESH-INTERVAL;VALUE=DURATION:PT1H
X-Robots-Tag:noindex
X-PUBLISHED-TTL:PT1H
BEGIN:VTIMEZONE
TZID:UTC
BEGIN:STANDARD
TZOFFSETFROM:+0000
TZOFFSETTO:+0000
TZNAME:UTC
DTSTART:20240101T000000
END:STANDARD
END:VTIMEZONE
BEGIN:VEVENT
DTSTART;TZID=UTC:20250508T113000
DTEND;TZID=UTC:20250508T123000
DTSTAMP:20260424T061901
CREATED:20250506T225045Z
LAST-MODIFIED:20250506T225045Z
UID:4210-1746703800-1746707400@xceptionalheroes.org
SUMMARY:Fun w/ Fitness
DESCRIPTION:We are so excited that its starting to get nice outside! We will be in the gym if the weather is not great\, but if we get a nice day we will take advantage of the weather outside!\n\nThis is a great way to get your body moving and stay active during the cold months!\n\nTamara always has fun ideas to keep Fitness fun and interesting!\nMake sure to wear the proper shoes and to bring lots of water with you!\n\nClick here to sign up!
URL:https://xceptionalheroes.org/event/fun-w-fitness-11/
LOCATION:Ascension Genesys Health Club\, 801 Health Park Blvd\, Grand Blanc\, MI\, 48439
CATEGORIES:Free For All
ATTACH;FMTTYPE=image/jpeg:https://xceptionalheroes.org/wp-content/uploads/2024/12/IMG_4229.jpg
END:VEVENT
BEGIN:VEVENT
DTSTART;TZID=UTC:20250508T180000
DTEND;TZID=UTC:20250508T190000
DTSTAMP:20260424T061901
CREATED:20250506T225326Z
LAST-MODIFIED:20250506T225326Z
UID:4212-1746727200-1746730800@xceptionalheroes.org
SUMMARY:Gardening in the North
DESCRIPTION:Join us at the Lacure Community Center for our gardening class!\n\nWe are going to learn all things gardening related and we are going to have an amazing master gardener joining us to teach us the ins and outs of how to make sure our garden thrives!\n\nClick here to sign up!
URL:https://xceptionalheroes.org/event/gardening-in-the-north/
LOCATION:12167 N Lewis Rd Clio\, MI\, 12167 N Lewis Rd\, Clio\, Michigan\, 48420
CATEGORIES:Free For All
ATTACH;FMTTYPE=image/webp:https://xceptionalheroes.org/wp-content/uploads/2025/05/AdobeStock_145654607.webp
END:VEVENT
END:VCALENDAR