BEGIN:VCALENDAR
VERSION:2.0
PRODID:-//Xceptional Heroes - ECPv6.15.20//NONSGML v1.0//EN
CALSCALE:GREGORIAN
METHOD:PUBLISH
X-WR-CALNAME:Xceptional Heroes
X-ORIGINAL-URL:https://xceptionalheroes.org
X-WR-CALDESC:Events for Xceptional Heroes
REFRESH-INTERVAL;VALUE=DURATION:PT1H
X-Robots-Tag:noindex
X-PUBLISHED-TTL:PT1H
BEGIN:VTIMEZONE
TZID:UTC
BEGIN:STANDARD
TZOFFSETFROM:+0000
TZOFFSETTO:+0000
TZNAME:UTC
DTSTART:20240101T000000
END:STANDARD
END:VTIMEZONE
BEGIN:VEVENT
DTSTART;TZID=UTC:20250430T180000
DTEND;TZID=UTC:20250430T193000
DTSTAMP:20260424T061859
CREATED:20250330T231811Z
LAST-MODIFIED:20250330T231811Z
UID:4140-1746036000-1746041400@xceptionalheroes.org
SUMMARY:Game Night
DESCRIPTION:Join us for Game Night!\n\nWe encourage you to bring your favorite board game and share it with us!\n\nWe will be playing board games and teaching each other how to play our favorite games!\n\nClick here to sign up!
URL:https://xceptionalheroes.org/event/game-night-3/
LOCATION:Richfield Road Church\, 6259 Richfield Rd\, Flint\, 48506
CATEGORIES:Free For All
ATTACH;FMTTYPE=image/png:https://xceptionalheroes.org/wp-content/uploads/2024/12/Game-Night-Event-Image.png
END:VEVENT
END:VCALENDAR