BEGIN:VCALENDAR
VERSION:2.0
PRODID:-//Xceptional Heroes - ECPv6.15.20//NONSGML v1.0//EN
CALSCALE:GREGORIAN
METHOD:PUBLISH
X-ORIGINAL-URL:https://xceptionalheroes.org
X-WR-CALDESC:Events for Xceptional Heroes
REFRESH-INTERVAL;VALUE=DURATION:PT1H
X-Robots-Tag:noindex
X-PUBLISHED-TTL:PT1H
BEGIN:VTIMEZONE
TZID:UTC
BEGIN:STANDARD
TZOFFSETFROM:+0000
TZOFFSETTO:+0000
TZNAME:UTC
DTSTART:20240101T000000
END:STANDARD
END:VTIMEZONE
BEGIN:VEVENT
DTSTART;TZID=UTC:20250425T100000
DTEND;TZID=UTC:20250425T113000
DTSTAMP:20260424T073327
CREATED:20250330T225009Z
LAST-MODIFIED:20250330T225009Z
UID:4131-1745575200-1745580600@xceptionalheroes.org
SUMMARY:Reading fun w/ GHS Social Club
DESCRIPTION:Join us for a fun filled time at Barnes and Noble Starbucks for some reading fun with GHS Social Club!\n\nIts always fun to read some great stories with friends and have a little treat as well!\n\nClick here to sign up!
URL:https://xceptionalheroes.org/event/reading-fun-w-ghs-social-club/
LOCATION:Barnes and Noble Flint
CATEGORIES:Free For All
END:VEVENT
END:VCALENDAR