BEGIN:VCALENDAR
VERSION:2.0
PRODID:-//Xceptional Heroes - ECPv6.15.20//NONSGML v1.0//EN
CALSCALE:GREGORIAN
METHOD:PUBLISH
X-WR-CALNAME:Xceptional Heroes
X-ORIGINAL-URL:https://xceptionalheroes.org
X-WR-CALDESC:Events for Xceptional Heroes
REFRESH-INTERVAL;VALUE=DURATION:PT1H
X-Robots-Tag:noindex
X-PUBLISHED-TTL:PT1H
BEGIN:VTIMEZONE
TZID:UTC
BEGIN:STANDARD
TZOFFSETFROM:+0000
TZOFFSETTO:+0000
TZNAME:UTC
DTSTART:20240101T000000
END:STANDARD
END:VTIMEZONE
BEGIN:VEVENT
DTSTART;TZID=UTC:20250415T180000
DTEND;TZID=UTC:20250415T183000
DTSTAMP:20260424T073228
CREATED:20250330T223113Z
LAST-MODIFIED:20250330T223113Z
UID:4114-1744740000-1744741800@xceptionalheroes.org
SUMMARY:XH North Drumming
DESCRIPTION:Join us for an amazing opportunity to learn to play the drums!\n\nWe are offering a class for our Heroes to learn the ins and outs of drumming and to be able to put their musical talent to the test!\n\nWe will learn the history of the instruments and the techniques to making beautiful music with them!\n\nPlease only show up for this event if you are signed up. This event has a strict number of participants we can not go over.\n\nClick here to sign up!
URL:https://xceptionalheroes.org/event/xh-north-drumming-2/
LOCATION:12167 N Lewis Rd Clio\, MI\, 12167 N Lewis Rd\, Clio\, Michigan\, 48420
CATEGORIES:Free For All
ATTACH;FMTTYPE=image/jpeg:https://xceptionalheroes.org/wp-content/uploads/2025/03/IMG_4345.jpg
END:VEVENT
END:VCALENDAR